BEGIN:VCALENDAR
VERSION:2.0
PRODID:-//https://www.moreish.ie///NONSGML kigkonsult.se iCalcreator 2.10.15//
METHOD:PUBLISH
BEGIN:VEVENT
UID:20171105T000357GMT-9668TUoW3x@https://www.moreish.ie/
DTSTAMP:20171105T000357Z
DESCRIPTION:When?&nbsp\;Tuesday\, 25 October: 3pm - 6pm\nWhere: Moreish Caf
 e at M3 Mulhuddart\, Navan Road\, Dublin&nbsp\;\nWhat&rsquo\;s on?\nWe are
  delighted to sponsor another Kater4Kidz cookery workshop. Kater4Kidz enco
 urages healthier choices through hands-on&nbsp\;learning in a fun and rela
 xed setting.\nAt the workshop\, children aged 4-12 will make flapjacks and
  other treats from scratch in our mobile kitchen set up at the cafe. All i
 ngredients\, equipment and containers provided - no need to bring anything
 !\nThe best bit it's 100% free\, so if you are interested in enrolling you
 r kid/s please contact Mary directly&nbsp\;on&nbsp\;086 8033115 to registe
 r. https://www.moreish.ie/component/rseventspro/event/31-kater4kidz-worksh
 op?Itemid=208
DTSTART:20161025T150000Z
DTEND:20161025T180000Z
LOCATION:M3 Mulhuddart (15 Navan Road\, Dublin)
SUMMARY:Kater4Kidz Workshop
URL:https://www.moreish.ie/component/rseventspro/event/31-kater4kidz-worksh
 op?Itemid=208
END:VEVENT
BEGIN:VEVENT
UID:20171105T000357GMT-96825x3SWs@https://www.moreish.ie/
DTSTAMP:20171105T000357Z
DESCRIPTION:What&rsquo\;s on?\nWe are delighted to sponsor another Kater4Ki
 dz cookery workshop. Kater4Kidz are encouraging healthier choices through 
 hands-on learning in a fun and relaxed setting.\nAt the workshop\, childre
 n will make flapjacks and summer berry smoothies from scratch in our mobil
 e kitchen set up at the cafe. All ingredients\, equipment and containers p
 rovided - no need to bring anything!\nThe best bit it's 100% free\, so if 
 you are interested in enrolling your kid/s please contact Mary directly on
 :086 8033115 or click here to register. https://www.moreish.ie/component/r
 seventspro/event/39-kater4kidz?Itemid=208
DTSTART:20160930T150000Z
DTEND:20160930T180000Z
LOCATION:Donabate ()
SUMMARY:Kater4Kidz
URL:https://www.moreish.ie/component/rseventspro/event/39-kater4kidz?Itemid
 =208
END:VEVENT
END:VCALENDAR
